BEGIN:VCALENDAR
VERSION:2.0
PRODID:-//ChamberMaster//Event Calendar 2.0//EN
METHOD:PUBLISH
X-PUBLISHED-TTL:P3D
REFRESH-INTERVAL:P3D
CALSCALE:GREGORIAN
BEGIN:VEVENT
DTSTART:20180619T220000Z
DTEND:20180619T233000Z
X-MICROSOFT-CDO-ALLDAYEVENT:FALSE
SUMMARY:Small Town Christmas BBQ Drive Thru Fundraiser
DESCRIPTION:Fundraiser for Small Town Christmas\n\n\n\n$10 Advance tickets may be bought at the following locations\n\n\n\nAustin County State Bank\n\nFirst National Bank of Bellville\n\nAustin County Printing\n\nBellville Chamber of Commerce
X-ALT-DESC;FMTTYPE=text/html:Fundraiser for Small Town Christmas<br />\n<br />\n$10 Advance tickets may be bought at the following locations<br />\n<br />\nAustin County State Bank<br />\nFirst National Bank of Bellville<br />\nAustin County Printing<br />\nBellville Chamber of Commerce
LOCATION:Concordia Hall 952 S. Tesch Bellville\, TX 77418
UID:e.2500.6876
SEQUENCE:3
DTSTAMP:20260423T000332Z
URL:https://business.bellville.com/events/details/small-town-christmas-bbq-drive-thru-fundraiser-6876
END:VEVENT

END:VCALENDAR
