BEGIN:VCALENDAR
VERSION:2.0
PRODID:-//ChamberMaster//Event Calendar 2.0//EN
METHOD:PUBLISH
X-PUBLISHED-TTL:P3D
REFRESH-INTERVAL:P3D
CALSCALE:GREGORIAN
BEGIN:VEVENT
DTSTART:20170531T140000Z
DTEND:20170531T200000Z
X-MICROSOFT-CDO-ALLDAYEVENT:FALSE
SUMMARY:Small Business Workshop
DESCRIPTION:Sponsored by BBVA Compass
X-ALT-DESC;FMTTYPE=text/html:Sponsored by BBVA Compass
LOCATION:251 E. Main St. Bellville\, TX 77418
UID:e.2500.3421
SEQUENCE:3
DTSTAMP:20260423T205355Z
URL:https://business.bellville.com/events/details/small-business-workshop-3421
END:VEVENT

END:VCALENDAR
