BEGIN:VCALENDAR
VERSION:2.0
PRODID:-//ChamberMaster//Event Calendar 2.0//EN
METHOD:PUBLISH
X-PUBLISHED-TTL:P3D
REFRESH-INTERVAL:P3D
CALSCALE:GREGORIAN
BEGIN:VEVENT
DTSTART:20181124T160000Z
DTEND:20181125T000000Z
X-MICROSOFT-CDO-ALLDAYEVENT:FALSE
SUMMARY:Sip & Stroll Shop Small Saturday
DESCRIPTION:
X-ALT-DESC;FMTTYPE=text/html:
LOCATION:
UID:e.2500.7008
SEQUENCE:3
DTSTAMP:20260422T155509Z
URL:https://business.bellville.com/events/details/sip-stroll-shop-small-saturday-7008
END:VEVENT

END:VCALENDAR
