BEGIN:VCALENDAR
VERSION:2.0
PRODID:-//ChamberMaster//Event Calendar 2.0//EN
METHOD:PUBLISH
X-PUBLISHED-TTL:P3D
REFRESH-INTERVAL:P3D
CALSCALE:GREGORIAN
BEGIN:VEVENT
DTSTART:20180827T130000Z
DTEND:20180827T170000Z
X-MICROSOFT-CDO-ALLDAYEVENT:FALSE
SUMMARY:Sip and Sign Up
DESCRIPTION:Come and have mimosas and more while you learn about volunteering opportunities and other enrichment opportunities in Bellville.
X-ALT-DESC;FMTTYPE=text/html:Come and have mimosas and more while you learn about volunteering opportunities and other enrichment opportunities in Bellville.
LOCATION:1072 South Masonic Bellville TX 77418
UID:e.2500.6942
SEQUENCE:3
DTSTAMP:20260422T204318Z
URL:https://business.bellville.com/events/details/sip-and-sign-up-6942
END:VEVENT

END:VCALENDAR
