BEGIN:VCALENDAR
VERSION:2.0
PRODID:-//ChamberMaster//Event Calendar 2.0//EN
METHOD:PUBLISH
X-PUBLISHED-TTL:P3D
REFRESH-INTERVAL:P3D
CALSCALE:GREGORIAN
BEGIN:VEVENT
DTSTART:20180922T140000Z
DTEND:20180922T190000Z
X-MICROSOFT-CDO-ALLDAYEVENT:FALSE
SUMMARY:Shoot & Shop @ Texas Premier Sporting Arms
DESCRIPTION:
X-ALT-DESC;FMTTYPE=text/html:
LOCATION:7311 Hwy 36 S Sealy TX 77474
UID:e.2500.6954
SEQUENCE:3
DTSTAMP:20260422T204446Z
URL:https://business.bellville.com/events/details/shoot-shop-texas-premier-sporting-arms-6954
END:VEVENT

END:VCALENDAR
