BEGIN:VCALENDAR
VERSION:2.0
PRODID:-//ChamberMaster//Event Calendar 2.0//EN
METHOD:PUBLISH
X-PUBLISHED-TTL:P3D
REFRESH-INTERVAL:P3D
CALSCALE:GREGORIAN
BEGIN:VEVENT
DTSTART:20160213T000000Z
DTEND:20160213T050000Z
X-MICROSOFT-CDO-ALLDAYEVENT:FALSE
SUMMARY:Shane Smith & The Saints at Buffalo Creek
DESCRIPTION:Shane Smith and the Saints unleash a spirited\, four-part harmony sound at every show that music fans can't quite put their finger on\, yet have no trouble putting their hands together for. You know the band is on the right track when fans approach them after live gigs to say\, I don't really like country\, but I liked that!
X-ALT-DESC;FMTTYPE=text/html:Shane Smith and the Saints unleash a spirited\, four-part harmony sound at every show that music fans can&#39\;t quite put their finger on\, yet have no trouble putting their hands together for. You know the band is on the right track when fans approach them after live gigs to say\, I don&#39\;t really like country\, but I liked that!
LOCATION:10827 Hwy 36 S. between Bellville and Sealy
UID:e.2500.557
SEQUENCE:3
DTSTAMP:20260424T221557Z
URL:https://business.bellville.com/events/details/shane-smith-the-saints-at-buffalo-creek-02-12-2016-557
END:VEVENT

END:VCALENDAR
