BEGIN:VCALENDAR
VERSION:2.0
PRODID:-//ChamberMaster//Event Calendar 2.0//EN
METHOD:PUBLISH
X-PUBLISHED-TTL:P3D
REFRESH-INTERVAL:P3D
CALSCALE:GREGORIAN
BEGIN:VEVENT
DTSTART:20181031T220000Z
DTEND:20181101T010000Z
X-MICROSOFT-CDO-ALLDAYEVENT:FALSE
SUMMARY:Sealy's 11th Annual Boo Bash
DESCRIPTION:
X-ALT-DESC;FMTTYPE=text/html:
LOCATION:
UID:e.2500.3644
SEQUENCE:3
DTSTAMP:20260422T172052Z
URL:https://business.bellville.com/events/details/sealy-s-11th-annual-boo-bash-10-31-2018-3644
END:VEVENT

END:VCALENDAR
