BEGIN:VCALENDAR
VERSION:2.0
PRODID:-//ChamberMaster//Event Calendar 2.0//EN
METHOD:PUBLISH
X-PUBLISHED-TTL:P3D
REFRESH-INTERVAL:P3D
CALSCALE:GREGORIAN
BEGIN:VEVENT
DTSTART:20181115T190000Z
DTEND:20181116T010000Z
X-MICROSOFT-CDO-ALLDAYEVENT:FALSE
SUMMARY:Sealy Eye Center Trunk Show and Ribbon Cutting
DESCRIPTION:Ribbon Cutting to take place at 1:30pm
X-ALT-DESC;FMTTYPE=text/html:Ribbon Cutting to take place at 1:30pm
LOCATION:Sealy Eye Center 1617 Meyer St Sealy TX 77474
UID:e.2500.7002
SEQUENCE:3
DTSTAMP:20260422T154155Z
URL:https://business.bellville.com/events/details/sealy-eye-center-trunk-show-and-ribbon-cutting-7002
END:VEVENT

END:VCALENDAR
