BEGIN:VCALENDAR
VERSION:2.0
PRODID:-//ChamberMaster//Event Calendar 2.0//EN
METHOD:PUBLISH
X-PUBLISHED-TTL:P3D
REFRESH-INTERVAL:P3D
CALSCALE:GREGORIAN
BEGIN:VEVENT
DTSTART:20160610T220000Z
DTEND:20160611T000000Z
X-MICROSOFT-CDO-ALLDAYEVENT:FALSE
SUMMARY:Sealy ER Ribbon Cutting and Business After Hours/Open House
DESCRIPTION:All Bellville Fair from the Bellville Meat Market and Bellville Cafe.\n\n \n\nJoin us for a great way to end the week.
X-ALT-DESC;FMTTYPE=text/html:<div>All Bellville Fair from the Bellville Meat Market and Bellville Cafe.</div>\n\n<div>&nbsp\;</div>\n\n<div>Join us for a great way to end the week.</div>\n
LOCATION:
UID:e.2500.1509
SEQUENCE:3
DTSTAMP:20260424T144543Z
URL:https://business.bellville.com/events/details/sealy-er-ribbon-cutting-and-business-after-hours-open-house-06-10-2016-1509
END:VEVENT

END:VCALENDAR
