BEGIN:VCALENDAR
VERSION:2.0
PRODID:-//ChamberMaster//Event Calendar 2.0//EN
METHOD:PUBLISH
X-PUBLISHED-TTL:P3D
REFRESH-INTERVAL:P3D
CALSCALE:GREGORIAN
BEGIN:VEVENT
DTSTART:20170517T163000Z
DTEND:20170517T180000Z
X-MICROSOFT-CDO-ALLDAYEVENT:FALSE
SUMMARY:Sealy Chamber Luncheon - State of the County by Judge Tim Lapham
DESCRIPTION:Chamber Luncheon   Guest Speaker: Austin County Judge Tim Lapham\n\nTime: 11:30 am   1:00 pm. Presentation will begin at noon\n\nLocation: Cazadores Mexican Restaurant\n\nCost: $15.00 per member and their guests\; $20.00 per non member\n\nPlease RSVP at http://business.sealychamber.com/events/details/chamber-luncheon-state-of-the-county-by-judge-tim-lapham-5225\n\ntammy@sealychamber.com or (979) 885-3222\n\nAll Are Welcome!
X-ALT-DESC;FMTTYPE=text/html:<span style="color: rgb(75\, 79\, 86)\; font-family: helvetica\,arial\,sans-serif\; font-size: 14px\;">Chamber Luncheon &ndash\; Guest Speaker: Austin County Judge Tim Lapham</span><br />\n<span style="color: rgb(75\, 79\, 86)\; font-family: helvetica\,arial\,sans-serif\; font-size: 14px\;">Time: 11:30 am &ndash\; 1:00 pm. Presentation will begin at noon</span><br />\n<span style="color: rgb(75\, 79\, 86)\; font-family: helvetica\,arial\,sans-serif\; font-size: 14px\;">Location: Cazadores Mexican Restaurant</span><br />\n<span style="color: rgb(75\, 79\, 86)\; font-family: helvetica\,arial\,sans-serif\; font-size: 14px\;">Cost: $15.00 per member and their guests\; $20.00 per non member</span><br />\n<span style="color: rgb(75\, 79\, 86)\; font-family: helvetica\,arial\,sans-serif\; font-size: 14px\;">Please RSVP at&nbsp\;</span><a href="http://business.sealychamber.com/events/details/chamber-luncheon-state-of-the-county-by-judge-tim-lapham-5225" rel="nofollow noopener nofollow" style="color: rgb(54\, 88\, 153)\; font-family: Helvetica\, Arial\, sans-serif\; font-size: 14px\; cursor: pointer\; text-decoration-line: none\;" target="_blank"><span style="font-family: inherit\;">http://</span><span style="font-family: inherit\;">business.sealychamber.com/</span><span style="font-family: inherit\;">events/details/</span><span style="font-family: inherit\;">chamber-luncheon-state-of-t</span><span style="font-family: inherit\;">he-county-by-judge-tim-lap</span>ham-5225</a><br />\n<span style="color: rgb(75\, 79\, 86)\; font-family: helvetica\,arial\,sans-serif\; font-size: 14px\;">tammy@sealychamber.com or (979) 885-3222</span><br />\n<span style="color: rgb(75\, 79\, 86)\; font-family: helvetica\,arial\,sans-serif\; font-size: 14px\;">All Are Welcome!</span>
LOCATION:Cazadores Mexican Restaurant 241 Gebhardt Rd\, Sealy\, Texas 77474
UID:e.2500.3410
SEQUENCE:3
DTSTAMP:20260423T205904Z
URL:https://business.bellville.com/events/details/sealy-chamber-luncheon-state-of-the-county-by-judge-tim-lapham-3410
END:VEVENT

END:VCALENDAR
