BEGIN:VCALENDAR
VERSION:2.0
PRODID:-//ChamberMaster//Event Calendar 2.0//EN
METHOD:PUBLISH
X-PUBLISHED-TTL:P3D
REFRESH-INTERVAL:P3D
CALSCALE:GREGORIAN
BEGIN:VEVENT
DTSTART:20170227T013000Z
DTEND:20170227T053000Z
X-MICROSOFT-CDO-ALLDAYEVENT:FALSE
SUMMARY:Salt Grass Trail Ride Kickoff Dance
DESCRIPTION:Featuring Anthony Moreno Band
X-ALT-DESC;FMTTYPE=text/html:Featuring Anthony Moreno Band
LOCATION:Austin County Fairgrounds Women's Building Bellville\, Texas
UID:e.2500.3187
SEQUENCE:3
DTSTAMP:20260424T015850Z
URL:https://business.bellville.com/events/details/salt-grass-trail-ride-kickoff-dance-3187
END:VEVENT

END:VCALENDAR
