BEGIN:VCALENDAR
VERSION:2.0
PRODID:-//ChamberMaster//Event Calendar 2.0//EN
METHOD:PUBLISH
X-PUBLISHED-TTL:P3D
REFRESH-INTERVAL:P3D
CALSCALE:GREGORIAN
BEGIN:VEVENT
DTSTART:20170929T232000Z
DTEND:20170930T030000Z
X-MICROSOFT-CDO-ALLDAYEVENT:FALSE
SUMMARY:Round Up Under the Oaks
DESCRIPTION:Benefiting the Boys & Girls Clubs of Austin County\n\nLive Auction\n\nMusic by Bri Bagwell
X-ALT-DESC;FMTTYPE=text/html:Benefiting the Boys &amp\; Girls Clubs of Austin County<br />\nLive Auction<br />\nMusic by Bri Bagwell
LOCATION:Hobson's Choice Ranch 10305 Jalowy Rd Sealy TX
UID:e.2500.3584
SEQUENCE:3
DTSTAMP:20260423T161707Z
URL:https://business.bellville.com/events/details/round-up-under-the-oaks-3584
END:VEVENT

END:VCALENDAR
