BEGIN:VCALENDAR
VERSION:2.0
PRODID:-//ChamberMaster//Event Calendar 2.0//EN
METHOD:PUBLISH
X-PUBLISHED-TTL:P3D
REFRESH-INTERVAL:P3D
CALSCALE:GREGORIAN
BEGIN:VEVENT
DTSTART;VALUE=DATE:20160923
DTEND;VALUE=DATE:20160924
TRANSP:TRANSPARENT
X-MICROSOFT-CDO-ALLDAYEVENT:TRUE
SUMMARY:Round Up Under The Oaks
DESCRIPTION:BENEFITING THE BOYS AND GIRLS CLUB OF AUSTIN COUNTY
X-ALT-DESC;FMTTYPE=text/html:BENEFITING THE BOYS AND GIRLS CLUB OF AUSTIN COUNTY<br />\n<br />\n&nbsp\;
LOCATION:
UID:e.2500.1725
SEQUENCE:3
DTSTAMP:20260424T094345Z
URL:https://business.bellville.com/events/details/round-up-under-the-oaks-09-23-2016-1725
END:VEVENT

END:VCALENDAR
