BEGIN:VCALENDAR
VERSION:2.0
PRODID:-//ChamberMaster//Event Calendar 2.0//EN
METHOD:PUBLISH
X-PUBLISHED-TTL:P3D
REFRESH-INTERVAL:P3D
CALSCALE:GREGORIAN
BEGIN:VEVENT
DTSTART:20180618T140000Z
DTEND:20180618T170000Z
X-MICROSOFT-CDO-ALLDAYEVENT:FALSE
SUMMARY:Rolling River Rampage - BUMC VBS
DESCRIPTION:Ages 4 - 6th Grade
X-ALT-DESC;FMTTYPE=text/html:Ages 4 - 6th Grade
LOCATION:Bellville United Methodist Church
UID:e.2500.6877
SEQUENCE:3
DTSTAMP:20260423T014526Z
URL:https://business.bellville.com/events/details/rolling-river-rampage-bumc-vbs-6877
END:VEVENT

END:VCALENDAR
