BEGIN:VCALENDAR
VERSION:2.0
PRODID:-//ChamberMaster//Event Calendar 2.0//EN
METHOD:PUBLISH
X-PUBLISHED-TTL:P3D
REFRESH-INTERVAL:P3D
CALSCALE:GREGORIAN
BEGIN:VEVENT
DTSTART:20160514T170000Z
DTEND:20160515T033000Z
X-MICROSOFT-CDO-ALLDAYEVENT:FALSE
SUMMARY:Rock The Square
DESCRIPTION:Crawfish\n\nBean Bag Tournament\n\nMargarita Contest\n\nBloody Mary Contest\n\nCraft Beer Contest\n\nLive Music\n\nLate Night Shopping
X-ALT-DESC;FMTTYPE=text/html:<strong><span style="color: rgb(165\, 42\, 42)\;"><span style="font-size: 12px\;">Crawfish<br />\nBean Bag Tournament<br />\nMargarita Contest<br />\nBloody Mary Contest<br />\nCraft Beer Contest<br />\nLive Music<br />\nLate Night Shopping</span></span></strong>
LOCATION:Historic Square in Downtown Bellville
UID:e.2500.1508
SEQUENCE:3
DTSTAMP:20260424T155943Z
URL:https://business.bellville.com/events/details/rock-the-square-05-14-2016-1508
END:VEVENT

END:VCALENDAR
