BEGIN:VCALENDAR
VERSION:2.0
PRODID:-//ChamberMaster//Event Calendar 2.0//EN
METHOD:PUBLISH
X-PUBLISHED-TTL:P3D
REFRESH-INTERVAL:P3D
CALSCALE:GREGORIAN
BEGIN:VEVENT
DTSTART:20160429T180000Z
DTEND:20160429T190000Z
X-MICROSOFT-CDO-ALLDAYEVENT:FALSE
SUMMARY:Ribbon Cutting for The Fitness Spot
DESCRIPTION:Join us in welcoming our newest member to the chamber!
X-ALT-DESC;FMTTYPE=text/html:Join us in welcoming our newest member to the chamber!<br />\n&nbsp\;
LOCATION:The Fitness Spot 210 E Glenn St Bellville TX 77418
UID:e.2500.1492
SEQUENCE:3
DTSTAMP:20260424T175244Z
URL:https://business.bellville.com/events/details/ribbon-cutting-for-the-fitness-spot-04-29-2016-1492
END:VEVENT

END:VCALENDAR
