BEGIN:VCALENDAR
VERSION:2.0
PRODID:-//ChamberMaster//Event Calendar 2.0//EN
METHOD:PUBLISH
X-PUBLISHED-TTL:P3D
REFRESH-INTERVAL:P3D
CALSCALE:GREGORIAN
BEGIN:VEVENT
DTSTART:20160310T231500Z
DTEND:20160310T233000Z
X-MICROSOFT-CDO-ALLDAYEVENT:FALSE
SUMMARY:Ribbon Cutting for Morris HVAC-R and Clutter Cutter
DESCRIPTION:WELCOME RIBBON CUTTING FOR NEW MEMBERS\n\nMorris HVAC-R\n\nClutter Cutter
X-ALT-DESC;FMTTYPE=text/html:WELCOME RIBBON CUTTING FOR NEW MEMBERS<br />\nMorris HVAC-R<br />\nClutter Cutter
LOCATION:Both will be held at the Chamber office.
UID:e.2500.1317
SEQUENCE:3
DTSTAMP:20260424T192208Z
URL:https://business.bellville.com/events/details/ribbon-cutting-for-morris-hvac-r-and-clutter-cutter-03-10-2016-1317
END:VEVENT

END:VCALENDAR
