BEGIN:VCALENDAR
VERSION:2.0
PRODID:-//ChamberMaster//Event Calendar 2.0//EN
METHOD:PUBLISH
X-PUBLISHED-TTL:P3D
REFRESH-INTERVAL:P3D
CALSCALE:GREGORIAN
BEGIN:VEVENT
DTSTART:20160527T221500Z
DTEND:20160527T224500Z
X-MICROSOFT-CDO-ALLDAYEVENT:FALSE
SUMMARY:Ribbon Cutting for Celina Moving & Storage
DESCRIPTION:
X-ALT-DESC;FMTTYPE=text/html:
LOCATION:1402 East Hacienda Street Bellville\, Texas 77418
UID:e.2500.1507
SEQUENCE:3
DTSTAMP:20260424T173450Z
URL:https://business.bellville.com/events/details/ribbon-cutting-for-celina-moving-storage-05-27-2016-1507
END:VEVENT

END:VCALENDAR
