BEGIN:VCALENDAR
VERSION:2.0
PRODID:-//ChamberMaster//Event Calendar 2.0//EN
METHOD:PUBLISH
X-PUBLISHED-TTL:P3D
REFRESH-INTERVAL:P3D
CALSCALE:GREGORIAN
BEGIN:VEVENT
DTSTART:20160513T221500Z
DTEND:20160514T000000Z
X-MICROSOFT-CDO-ALLDAYEVENT:FALSE
SUMMARY:Ribbon Cutting & Business After Hours At Amerida Price Agency
DESCRIPTION:Come welcome a new business to town! Amerida Price Agency will have a ribbon cutting and a business after hours networking/social hour.
X-ALT-DESC;FMTTYPE=text/html:Come welcome a new business to town! Amerida Price Agency will have a ribbon cutting and a business after hours networking/social hour.
LOCATION:10 S. Holland
UID:e.2500.1502
SEQUENCE:3
DTSTAMP:20260424T160659Z
URL:https://business.bellville.com/events/details/ribbon-cutting-business-after-hours-at-amerida-price-agency-05-13-2016-1502
END:VEVENT

END:VCALENDAR
