BEGIN:VCALENDAR
VERSION:2.0
PRODID:-//ChamberMaster//Event Calendar 2.0//EN
METHOD:PUBLISH
X-PUBLISHED-TTL:P3D
REFRESH-INTERVAL:P3D
CALSCALE:GREGORIAN
BEGIN:VEVENT
DTSTART:20181028T000000Z
DTEND:20181028T040000Z
X-MICROSOFT-CDO-ALLDAYEVENT:FALSE
SUMMARY:Remember When Community HALLOWEEN Dance
DESCRIPTION:$2 Beer / Set Ups\n\nDancing\n\nFamily Friendly\n\nHomemade Hamburgers\n\n\n\nCOSTUME CONTESTS\n\n12 & Under\n\n13 & Up\n\nBest Group
X-ALT-DESC;FMTTYPE=text/html:<span style="font-size: 14px\;"><span style="font-family: arial\;">$2 Beer / Set Ups<br />\nDancing<br />\nFamily Friendly<br />\nHomemade Hamburgers</span></span><br />\n<br />\n<strong><span style="font-size: 20px\;"><span style="font-family: comic sans ms\;">COSTUME CONTESTS<br />\n12 &amp\; Under<br />\n13 &amp\; Up<br />\nBest Group</span></span></strong>
LOCATION:Kenney Agricultural Society Hall 444 Hall Rd. Bellville\, TX 77418
UID:e.2500.6891
SEQUENCE:3
DTSTAMP:20260422T185629Z
URL:https://business.bellville.com/events/details/remember-when-community-halloween-dance-6891
END:VEVENT

END:VCALENDAR
