BEGIN:VCALENDAR
VERSION:2.0
PRODID:-//ChamberMaster//Event Calendar 2.0//EN
METHOD:PUBLISH
X-PUBLISHED-TTL:P3D
REFRESH-INTERVAL:P3D
CALSCALE:GREGORIAN
BEGIN:VEVENT
DTSTART:20190120T020000Z
DTEND:20190120T055500Z
X-MICROSOFT-CDO-ALLDAYEVENT:FALSE
SUMMARY:Remember When Community Dance featuring The David Lewis Band
DESCRIPTION:MUSIC BY THE DAVID LEWIS BAND\n\n\n\nBoots scootin' across the old hardwood floor\n\nHearing live music as you walk up to the door\n\nGrannies and Grandpas teaching children how to dance\n\nYoung ladies hoping that boy comes to take their hand\n\nCotton Eyed Joe\, Schottische and the Chicken Dance\n\nTime passes quickly so take this chance\n\nCreate new memories at our Community Dance!
X-ALT-DESC;FMTTYPE=text/html:<span style="font-size: 16px\;"><em><strong>MUSIC BY THE DAVID LEWIS BAND</strong><br />\n<br />\nBoots scootin&#39\; across the old hardwood floor<br />\nHearing live music as you walk up to the door<br />\nGrannies and Grandpas teaching children how to dance<br />\nYoung ladies hoping that boy comes to&nbsp\;take their hand<br />\nCotton Eyed Joe\, Schottische and the Chicken Dance<br />\nTime passes quickly so take this chance<br />\nCreate new memories at our Community Dance!</em></span><br />\n<br />\n<br />\n&nbsp\;
LOCATION:Coshatte Agricultural Society Hall 5778 Smith Rd Bellville\, TX 77418
UID:e.2500.3682
SEQUENCE:3
DTSTAMP:20260422T120735Z
URL:https://business.bellville.com/events/details/remember-when-community-dance-featuring-the-david-lewis-band-3682
END:VEVENT

END:VCALENDAR
