BEGIN:VCALENDAR
VERSION:2.0
PRODID:-//ChamberMaster//Event Calendar 2.0//EN
METHOD:PUBLISH
X-PUBLISHED-TTL:P3D
REFRESH-INTERVAL:P3D
CALSCALE:GREGORIAN
BEGIN:VEVENT
DTSTART:20180819T010000Z
DTEND:20180819T045500Z
X-MICROSOFT-CDO-ALLDAYEVENT:FALSE
SUMMARY:Remember When Community Dance #5
DESCRIPTION:Music by Crossroads Band\n\n\n\n$2 Beer / Set Ups\n\nDancing\n\nFamily Friendly\n\nHamburgers
X-ALT-DESC;FMTTYPE=text/html:<strong>Music by Crossroads Band</strong><br />\n<br />\n$2 Beer / Set Ups<br />\nDancing<br />\nFamily Friendly<br />\nHamburgers
LOCATION:Coshatte Agricultural Society Hall 5778 Smith Rd. Bellville\, TX 77418
UID:e.2500.6730
SEQUENCE:3
DTSTAMP:20260422T221424Z
URL:https://business.bellville.com/events/details/remember-when-community-dance-5-6730
END:VEVENT

END:VCALENDAR
