BEGIN:VCALENDAR
VERSION:2.0
PRODID:-//ChamberMaster//Event Calendar 2.0//EN
METHOD:PUBLISH
X-PUBLISHED-TTL:P3D
REFRESH-INTERVAL:P3D
CALSCALE:GREGORIAN
BEGIN:VEVENT
DTSTART:20180520T010000Z
DTEND:20180520T045500Z
X-MICROSOFT-CDO-ALLDAYEVENT:FALSE
SUMMARY:Remember When Community Dance
DESCRIPTION:Music by\n\nCharles and the Fabulous 4\n\n \n\n$2 beer / Set Ups\n\nFamily Friendly\n\nHomemade Hamburgers
X-ALT-DESC;FMTTYPE=text/html:<div><strong>Music by<br />\nCharles and the Fabulous 4</strong></div>\n\n<div>&nbsp\;</div>\n\n<div>$2 beer / Set Ups</div>\n\n<div>Family Friendly</div>\n\n<div>Homemade Hamburgers</div>\n\n<div>&nbsp\;</div>\n
LOCATION:Millheim Harmonie Verein Hall 4469 FM 949 Sealy\, TX 77474
UID:e.2500.3743
SEQUENCE:3
DTSTAMP:20260423T033237Z
URL:https://business.bellville.com/events/details/remember-when-community-dance-3743
END:VEVENT

END:VCALENDAR
