BEGIN:VCALENDAR
VERSION:2.0
PRODID:-//ChamberMaster//Event Calendar 2.0//EN
METHOD:PUBLISH
X-PUBLISHED-TTL:P3D
REFRESH-INTERVAL:P3D
CALSCALE:GREGORIAN
BEGIN:VEVENT
DTSTART:20161008T210000Z
DTEND:20161009T030000Z
X-MICROSOFT-CDO-ALLDAYEVENT:FALSE
SUMMARY:Relay for Life of Austin County
DESCRIPTION:
X-ALT-DESC;FMTTYPE=text/html:
LOCATION:
UID:e.2500.1750
SEQUENCE:3
DTSTAMP:20260424T101525Z
URL:https://business.bellville.com/events/details/relay-for-life-of-austin-county-1750
END:VEVENT

END:VCALENDAR
