BEGIN:VCALENDAR
VERSION:2.0
PRODID:-//ChamberMaster//Event Calendar 2.0//EN
METHOD:PUBLISH
X-PUBLISHED-TTL:P3D
REFRESH-INTERVAL:P3D
CALSCALE:GREGORIAN
BEGIN:VEVENT
DTSTART:20160402T210000Z
DTEND:20160403T030000Z
X-MICROSOFT-CDO-ALLDAYEVENT:FALSE
SUMMARY:RedRail Ranch Party
DESCRIPTION:RedRail Ranch Annual Party
X-ALT-DESC;FMTTYPE=text/html:RedRail Ranch Annual Party
LOCATION:
UID:e.2500.971
SEQUENCE:3
DTSTAMP:20260424T190305Z
URL:https://business.bellville.com/events/details/redrail-ranch-party-04-02-2016-971
END:VEVENT

END:VCALENDAR
