BEGIN:VCALENDAR
VERSION:2.0
PRODID:-//ChamberMaster//Event Calendar 2.0//EN
METHOD:PUBLISH
X-PUBLISHED-TTL:P3D
REFRESH-INTERVAL:P3D
CALSCALE:GREGORIAN
BEGIN:VEVENT
DTSTART:20180227T230000Z
DTEND:20180228T030000Z
X-MICROSOFT-CDO-ALLDAYEVENT:FALSE
SUMMARY:Reagan Dinner
DESCRIPTION:Washington County Republican Party will host it's first Reagan Dinner at Silver Wings Ballroom in Brenham. The Honorable Allen West will be the keynote speaker. Senator Lois Kolkhorst will be the Master of Ceremony's. Comptroller Glenn Hegar and Tieman "Skipper" Dippel Jr. will also speak. Dinner will be catered by Leona General Store. RSVP by Feb. 20\, 2018 Table Sponsorships are available and reservations start at $80.00
X-ALT-DESC;FMTTYPE=text/html:Washington County Republican Party will host it&#39\;s first Reagan Dinner at Silver Wings Ballroom in Brenham. The Honorable Allen West will be the keynote speaker. Senator Lois Kolkhorst will be the Master of Ceremony&#39\;s. Comptroller Glenn Hegar and Tieman &quot\;Skipper&quot\; Dippel Jr. will also speak. Dinner will be catered by Leona General Store. RSVP by Feb. 20\, 2018 Table Sponsorships are available and reservations start at $80.00
LOCATION:Silver Wings Ballroom 4100 TX-105 Brenham\, Texas 77833
UID:e.2500.3736
SEQUENCE:3
DTSTAMP:20260423T070552Z
URL:https://business.bellville.com/events/details/reagan-dinner-3736
END:VEVENT

END:VCALENDAR
