BEGIN:VCALENDAR
VERSION:2.0
PRODID:-//ChamberMaster//Event Calendar 2.0//EN
METHOD:PUBLISH
X-PUBLISHED-TTL:P3D
REFRESH-INTERVAL:P3D
CALSCALE:GREGORIAN
BEGIN:VEVENT
DTSTART:20180505T140000Z
DTEND:20180505T180000Z
X-MICROSOFT-CDO-ALLDAYEVENT:FALSE
SUMMARY:RAP Sporting Clay Tournament
DESCRIPTION:Sporting Clay Tournament benefiting Raising Academic Performance (RAP).
X-ALT-DESC;FMTTYPE=text/html:Sporting Clay Tournament benefiting Raising Academic Performance (RAP).
LOCATION:Texas Premier Sporting Arms 7311 Hwy 36 South Sealy\, Texas
UID:e.2500.3749
SEQUENCE:3
DTSTAMP:20260423T014550Z
URL:https://business.bellville.com/events/details/rap-sporting-clay-tournament-3749
END:VEVENT

END:VCALENDAR
