BEGIN:VCALENDAR
VERSION:2.0
PRODID:-//ChamberMaster//Event Calendar 2.0//EN
METHOD:PUBLISH
X-PUBLISHED-TTL:P3D
REFRESH-INTERVAL:P3D
CALSCALE:GREGORIAN
BEGIN:VEVENT
DTSTART:20170630T170000Z
DTEND:20170701T010000Z
X-MICROSOFT-CDO-ALLDAYEVENT:FALSE
SUMMARY:RAP Golf Tournament
DESCRIPTION:Raising Academic Performance (RAP) provides mentors\, for at risk students\, in Austin County.  We provide funds for extracurricular activities and scholarships for continuing education.
X-ALT-DESC;FMTTYPE=text/html:<div>\n<p>Raising Academic Performance (RAP) provides mentors\, for at risk students\, in Austin County.&nbsp\; We provide funds for extracurricular activities and scholarships for continuing education.&nbsp\;</p>\n</div>\n
LOCATION:
UID:e.2500.3170
SEQUENCE:3
DTSTAMP:20260423T205347Z
URL:https://business.bellville.com/events/details/rap-golf-tournament-3170
END:VEVENT

END:VCALENDAR
