BEGIN:VCALENDAR
VERSION:2.0
PRODID:-//ChamberMaster//Event Calendar 2.0//EN
METHOD:PUBLISH
X-PUBLISHED-TTL:P3D
REFRESH-INTERVAL:P3D
CALSCALE:GREGORIAN
BEGIN:VEVENT
DTSTART:20171028T130000Z
DTEND:20171028T170000Z
X-MICROSOFT-CDO-ALLDAYEVENT:FALSE
SUMMARY:Rabies Drive - Main Street Animal Hospital
DESCRIPTION:
X-ALT-DESC;FMTTYPE=text/html:
LOCATION:763 West Main Bellville TX 77418
UID:e.2500.3632
SEQUENCE:3
DTSTAMP:20260423T125630Z
URL:https://business.bellville.com/events/details/rabies-drive-main-street-animal-hospital-3632
END:VEVENT

END:VCALENDAR
