BEGIN:VCALENDAR
VERSION:2.0
PRODID:-//ChamberMaster//Event Calendar 2.0//EN
METHOD:PUBLISH
X-PUBLISHED-TTL:P3D
REFRESH-INTERVAL:P3D
CALSCALE:GREGORIAN
BEGIN:VEVENT
DTSTART:20180407T130000Z
DTEND:20180407T180000Z
X-MICROSOFT-CDO-ALLDAYEVENT:FALSE
SUMMARY:Quail Forever Sporting Clay Shoot
DESCRIPTION:
X-ALT-DESC;FMTTYPE=text/html:
LOCATION:
UID:e.2500.4764
SEQUENCE:3
DTSTAMP:20260423T033359Z
URL:https://business.bellville.com/events/details/quail-forever-sporting-clay-shoot-4764
END:VEVENT

END:VCALENDAR
