BEGIN:VCALENDAR
VERSION:2.0
PRODID:-//ChamberMaster//Event Calendar 2.0//EN
METHOD:PUBLISH
X-PUBLISHED-TTL:P3D
REFRESH-INTERVAL:P3D
CALSCALE:GREGORIAN
BEGIN:VEVENT
DTSTART:20180505T220000Z
DTEND:20180506T010000Z
X-MICROSOFT-CDO-ALLDAYEVENT:FALSE
SUMMARY:PUPS Annual Fundraiser
DESCRIPTION:
X-ALT-DESC;FMTTYPE=text/html:
LOCATION:Emery's Buffalo Creek Winery 10827 Hwy 36 N Bellville\, TX 77418
UID:e.2500.6580
SEQUENCE:3
DTSTAMP:20260423T014526Z
URL:https://business.bellville.com/events/details/pups-annual-fundraiser-6580
END:VEVENT

END:VCALENDAR
