BEGIN:VCALENDAR
VERSION:2.0
PRODID:-//ChamberMaster//Event Calendar 2.0//EN
METHOD:PUBLISH
X-PUBLISHED-TTL:P3D
REFRESH-INTERVAL:P3D
CALSCALE:GREGORIAN
BEGIN:VEVENT
DTSTART:20170718T230000Z
DTEND:20170719T000000Z
X-MICROSOFT-CDO-ALLDAYEVENT:FALSE
SUMMARY:Providence Preparatory School Ribbon Cutting & Information Meeting
DESCRIPTION:
X-ALT-DESC;FMTTYPE=text/html:
LOCATION:Grace Community Church 707 W. Main St. Bellville \, TX 77418
UID:e.2500.3568
SEQUENCE:3
DTSTAMP:20260423T192436Z
URL:https://business.bellville.com/events/details/providence-preparatory-school-ribbon-cutting-information-meeting-3568
END:VEVENT

END:VCALENDAR
