BEGIN:VCALENDAR
VERSION:2.0
PRODID:-//ChamberMaster//Event Calendar 2.0//EN
METHOD:PUBLISH
X-PUBLISHED-TTL:P3D
REFRESH-INTERVAL:P3D
CALSCALE:GREGORIAN
BEGIN:VEVENT
DTSTART:20160130T000000Z
DTEND:20160130T050000Z
X-MICROSOFT-CDO-ALLDAYEVENT:FALSE
SUMMARY:Prophets and Outlaws Concert at Buffalo Creek Wedding and Entertainment Venue
DESCRIPTION:Prophets and Outlaws http://www.prophetsandoutlaws.com/#intro with special guest David Grace https://www.facebook.com/davidgracemusic1/?fref=ts live at Buffalo Creek\, Bellville "Prophets & Outlaws is the kind of band that can bring the blues\, rock n' roll\, the essence of Texas and then take you straight to church!
X-ALT-DESC;FMTTYPE=text/html:Prophets and Outlaws http://www.prophetsandoutlaws.com/#intro with special guest David Grace https://www.facebook.com/davidgracemusic1/?fref=ts live at Buffalo Creek\, Bellville &quot\;Prophets &amp\; Outlaws is the kind of band that can bring the blues\, rock n&#39\; roll\, the essence of Texas and then take you straight to church!
LOCATION:10827 Hwy 36 S. Bellville between Bellville and Sealy
UID:e.2500.555
SEQUENCE:3
DTSTAMP:20260424T221936Z
URL:https://business.bellville.com/events/details/prophets-and-outlaws-concert-at-buffalo-creek-wedding-and-entertainment-venue-01-29-2016-555
END:VEVENT

END:VCALENDAR
