BEGIN:VCALENDAR
VERSION:2.0
PRODID:-//ChamberMaster//Event Calendar 2.0//EN
METHOD:PUBLISH
X-PUBLISHED-TTL:P3D
REFRESH-INTERVAL:P3D
CALSCALE:GREGORIAN
BEGIN:VEVENT
DTSTART:20160514T150000Z
DTEND:20160514T230000Z
X-MICROSOFT-CDO-ALLDAYEVENT:FALSE
SUMMARY:Poker Run
DESCRIPTION:How the Poker Run will work.\n\n  Purchase a Poker Score Card at Registration Booth on the \n\nSquare.\n\n  Go to 5 of the "Poker Run Stops" and draw a card from \n\nstandard 52 card deck.\n\n  Record card drawn on your scorecard.\n\n  Return scorecards to the registration booth. You may also purchase replacement cards at the registration booth to try and better your hand for a small fee. \n\n  Participants with best Poker Hands will be awarded prizes at  \n\nthe end.  \n\n  Participants DO NOT need to be present to win awards.\n\n\n\nPOKER RUN STOPS\n\nTreasure Crafts \n\nMichele Jewelry \n\nBuck Fergeson Originals \n\nSouthern Trends\n\nCoco & Duckie\n\nCottonwood Cottage\n\nHolland St. Gallery\n\nPop Of Pink Cosmetics \n\nIndoor Outdoor Store\n\nBellville Rent-All\n\nSpirit T's and Promotions\n\nRocking B Cowboy Supply \n\nNothing Ordinary\n\nMiss Bobi's\n\nHuff Brewing Co.\n\n\n\n\n\n\n\nAll scorecards must be turned into the Chamber of Commerce booth by 6:00pm to be entered for awards.
X-ALT-DESC;FMTTYPE=text/html:<span style="color: rgb(178\, 34\, 34)\;"><strong><span style="font-family: times new roman\;"><span style="line-height: 38px\; font-size: 24px\;">How the Poker Run will work.</span></span></strong></span><br style="color: rgb(20\, 24\, 35)\; font-family: helvetica\, arial\, sans-serif\; font-size: 14px\; line-height: 19px\;" />\n<span style="color: rgb(20\, 24\, 35)\; font-family: helvetica\, arial\, sans-serif\; font-size: 14px\; line-height: 19px\; background-color: rgb(255\, 255\, 255)\;">&bull\; Purchase a Poker Score Card at Registration Booth on the&nbsp\;</span><br style="color: rgb(20\, 24\, 35)\; font-family: helvetica\, arial\, sans-serif\; font-size: 14px\; line-height: 19px\;" />\n<span style="color: rgb(20\, 24\, 35)\; font-family: helvetica\, arial\, sans-serif\; font-size: 14px\; line-height: 19px\; background-color: rgb(255\, 255\, 255)\;">Square.</span><br style="color: rgb(20\, 24\, 35)\; font-family: helvetica\, arial\, sans-serif\; font-size: 14px\; line-height: 19px\;" />\n<span style="color: rgb(20\, 24\, 35)\; font-family: helvetica\, arial\, sans-serif\; font-size: 14px\; line-height: 19px\; background-color: rgb(255\, 255\, 255)\;">&bull\; Go to 5 of the &quot\;Poker Run Stops&quot\; and draw a card from&nbsp\;</span><br style="color: rgb(20\, 24\, 35)\; font-family: helvetica\, arial\, sans-serif\; font-size: 14px\; line-height: 19px\;" />\n<span style="color: rgb(20\, 24\, 35)\; font-family: helvetica\, arial\, sans-serif\; font-size: 14px\; line-height: 19px\; background-color: rgb(255\, 255\, 255)\;">standard 52 card deck.</span><br />\n<span class="text_exposed_show" style="display: inline\; color: rgb(20\, 24\, 35)\; font-family: helvetica\, arial\, sans-serif\; font-size: 14px\; line-height: 19px\;">&bull\; Record card drawn on your scorecard.<br />\n&bull\; Return scorecards to the registration booth. You may also purchase replacement cards at the registration booth to try and better your hand for a small fee.&nbsp\;<br />\n&bull\; Participants with best Poker Hands will be awarded prizes at&nbsp\;&nbsp\;<br />\nthe end.&nbsp\;&nbsp\;<br />\n&bull\; Participants DO NOT need to be present to win awards.</span><br />\n<br />\n<strong><span style="font-size: 14px\;"><span style="font-family: tahoma\;"><span style="color:#B22222\;"><span style="font-size:24px\;"><span style="font-family:times new roman\;"><u>POKER RUN STOPS</u></span></span></span></span></span></strong><br />\n<strong><span style="font-size: 14px\;"><span style="font-family: tahoma\;"><em>Treasure Crafts&nbsp\;<br />\nMichele Jewelry&nbsp\;<br />\nBuck Fergeson&nbsp\;Originals&nbsp\;<br />\nSouthern Trends<br />\nCoco &amp\; Duckie<br />\nCottonwood Cottage<br />\nHolland St. Gallery<br />\nPop Of Pink Cosmetics&nbsp\;<br />\nIndoor Outdoor Store<br />\nBellville Rent-All<br />\nSpirit T&#39\;s and Promotions<br />\nRocking B Cowboy Supply&nbsp\;<br />\nNothing Ordinary<br />\nMiss Bobi&#39\;s<br />\nHuff Brewing Co.</em></span></span></strong><br />\n<br />\n<br />\n<br />\n<em>All scorecards must be turned into the Chamber of Commerce booth by 6:00pm to be entered for awards.&nbsp\;</em>
LOCATION:Registration will be on the Historic Square in Downtown Bellville at the Chamber of Commerce booth.
UID:e.2500.1478
SEQUENCE:3
DTSTAMP:20260424T173231Z
URL:https://business.bellville.com/events/details/poker-run-05-14-2016-1478
END:VEVENT

END:VCALENDAR
