BEGIN:VCALENDAR
VERSION:2.0
PRODID:-//ChamberMaster//Event Calendar 2.0//EN
METHOD:PUBLISH
X-PUBLISHED-TTL:P3D
REFRESH-INTERVAL:P3D
CALSCALE:GREGORIAN
BEGIN:VEVENT
DTSTART:20190407T200000Z
DTEND:20190407T220000Z
X-MICROSOFT-CDO-ALLDAYEVENT:FALSE
SUMMARY:Poets and Songwriters Gathering
DESCRIPTION:Featured Singer/Songwriter:  Sia Beaton\n\nLocal poets and songwriters are invited to share their own work in public reading and song. Sia Beaton will discuss how she goes about writing a song and setting it to music. There will be opportunities for all to read in an informal setting\, enjoying each other's art and learning what talents are available in Bellville and the surrounding area.\n\nParticipants may bring books\, CD's\, sheet music\, or other published material to offer for sale or to share. They will be invited to leave contact information for news about ongoing activities for poets and songwriters and future events.\n\nSponsored by The Perky Poets Society for National Poetry Month. For more information see Perky Poets on Facebook or email perkypoets@gmail.com. We especially thank Sia Beaton for her participation. We appreciate the generous provision of Newman's Castle for the venue. Thank you\, Mike Newman!!
X-ALT-DESC;FMTTYPE=text/html:<div>\n<div>\n<div>\n<p><span style="font-family: dejavusanscondensed\; font-size: 14pt\;">Featured Singer/Songwriter: &nbsp\;Sia Beaton</span></p>\n\n<p><span style="font-family: dejavusanscondensed\; font-size: 14pt\;">Local poets and songwriters are invited to share their own work in public reading and song. Sia Beaton will discuss how she goes about writing a song and setting it to music. There will be opportunities for all to read in an informal setting\, enjoying each other&rsquo\;s art and learning what talents are available in Bellville and the surrounding area.</span></p>\n\n<p><span style="font-family: dejavusanscondensed\; font-size: 14pt\;">Participants may bring books\, CD&rsquo\;s\, sheet music\, or other published material to offer for sale or to share. They will be invited to leave contact information for news about ongoing activities for poets and songwriters and future events.</span></p>\n\n<p><span style="font-family: dejavusanscondensed\; font-size: 14pt\;">Sponsored by The Perky Poets Society for National Poetry Month. For more information see&nbsp\;</span><span style="font-family: dejavusanscondensed\; font-size: 14pt\;">Perky Poets on Facebook&nbsp\;</span><span style="font-family: dejavusanscondensed\; font-size: 14pt\;">or email&nbsp\;</span><span style="font-family: dejavusanscondensed\; font-size: 14pt\;">perkypoets@gmail.com</span><span style="font-family: dejavusanscondensed\; font-size: 14pt\;">. We especially thank Sia Beaton for her participation. We appreciate the generous provision of Newman&rsquo\;s Castle for the venue. Thank you\, Mike Newman!!</span></p>\n</div>\n</div>\n</div>\n
LOCATION:Newman's Castle\, 1041 Old TX-36 Bellville\, Texas
UID:e.2500.7419
SEQUENCE:3
DTSTAMP:20260420T085239Z
URL:https://business.bellville.com/events/details/poets-and-songwriters-gathering-7419
END:VEVENT

END:VCALENDAR
