BEGIN:VCALENDAR
VERSION:2.0
PRODID:-//ChamberMaster//Event Calendar 2.0//EN
METHOD:PUBLISH
X-PUBLISHED-TTL:P3D
REFRESH-INTERVAL:P3D
CALSCALE:GREGORIAN
BEGIN:VEVENT
DTSTART:20161028T163000Z
DTEND:20161028T230000Z
X-MICROSOFT-CDO-ALLDAYEVENT:FALSE
SUMMARY:"Playing for Permanency" - CASA for Kids Golf Tournament
DESCRIPTION:"Playing for Permanency" will help raise funds for CASA for Kids of South Central Texas helping support our mission of advocating for permanent placement for children in our community that have been placed in CPS custody.  CASA for Kids of South Central Texas advocates in the best interest of abused and neglected children in court through the training and support of community volunteers - CASA's - Court Appointed Special Advocates.  Our advocates are the eyes of the court and the voice of the child.\n\nCASA for Kids of South Central Texas serves Austin\, Colorado\, Waller\, & Washington counties. \n\n\n\nTeams must consist of 4 players with a minimum team handicap of 50\, and only one player with a handicap of eight or less. Prizes will be given to 1st through 3rd place teams!
X-ALT-DESC;FMTTYPE=text/html:&quot\;Playing for Permanency&quot\; will help raise funds for CASA for Kids of South Central Texas helping support our mission of advocating for permanent placement for children in our community that have been placed in CPS custody.&nbsp\; CASA for Kids of South Central Texas advocates in the best interest of abused and neglected children in court through the training and support of community volunteers - CASA&#39\;s - Court Appointed Special Advocates.&nbsp\; Our advocates are the eyes of the court and the voice of the child.<br />\nCASA for Kids of South Central Texas serves Austin\, Colorado\, Waller\, &amp\; Washington counties.&nbsp\;<br />\n<br />\nTeams must consist of 4 players with a minimum team handicap of 50\, and only one player with a handicap of eight or less. Prizes will be given to 1st through 3rd place teams!
LOCATION:Legendary Oaks Golf Course
UID:e.2500.1757
SEQUENCE:3
DTSTAMP:20260424T085457Z
URL:https://business.bellville.com/events/details/playing-for-permanency-casa-for-kids-golf-tournament-1757
END:VEVENT

END:VCALENDAR
