BEGIN:VCALENDAR
VERSION:2.0
PRODID:-//ChamberMaster//Event Calendar 2.0//EN
METHOD:PUBLISH
X-PUBLISHED-TTL:P3D
REFRESH-INTERVAL:P3D
CALSCALE:GREGORIAN
BEGIN:VEVENT
DTSTART:20181025T180000Z
DTEND:20181028T030000Z
X-MICROSOFT-CDO-ALLDAYEVENT:FALSE
SUMMARY:Pickin' & Grinnin' Festival
DESCRIPTION:
X-ALT-DESC;FMTTYPE=text/html:
LOCATION:Coushatte RV Ranch
UID:e.2500.6907
SEQUENCE:3
DTSTAMP:20260422T173525Z
URL:https://business.bellville.com/events/details/pickin-grinnin-festival-6907
END:VEVENT

END:VCALENDAR
