BEGIN:VCALENDAR
VERSION:2.0
PRODID:-//ChamberMaster//Event Calendar 2.0//EN
METHOD:PUBLISH
X-PUBLISHED-TTL:P3D
REFRESH-INTERVAL:P3D
CALSCALE:GREGORIAN
BEGIN:VEVENT
DTSTART:20170916T130000Z
DTEND:20170916T190000Z
X-MICROSOFT-CDO-ALLDAYEVENT:FALSE
SUMMARY:Pedal Away Alzheimer's Bike Ride
DESCRIPTION:Ready2Roll Cycling will be coordinating the first ever Pedal Away Alzheimer's bike ride starting from the Austin County Fair Convention and Expo Center on September 16th beginning at 8am. Distances will vary and portions of the event' proceeds will be donated to the Alzheimer's Association. Rides and volunteers welcome. Cal 713 817 4898.
X-ALT-DESC;FMTTYPE=text/html:Ready2Roll Cycling will be coordinating the first ever Pedal Away Alzheimer&#39\;s bike ride starting from the Austin County Fair Convention and Expo Center on September 16th beginning at 8am. Distances will vary and portions of the event&#39\; proceeds will be donated to the Alzheimer&#39\;s Association. Rides and volunteers welcome. Cal 713 817 4898.
LOCATION:Austin County Fair Convention and Expo Center
UID:e.2500.3418
SEQUENCE:3
DTSTAMP:20260423T144340Z
URL:https://business.bellville.com/events/details/pedal-away-alzheimer-s-bike-ride-3418
END:VEVENT

END:VCALENDAR
