BEGIN:VCALENDAR
VERSION:2.0
PRODID:-//ChamberMaster//Event Calendar 2.0//EN
METHOD:PUBLISH
X-PUBLISHED-TTL:P3D
REFRESH-INTERVAL:P3D
CALSCALE:GREGORIAN
BEGIN:VEVENT
DTSTART:20160416T160000Z
DTEND:20160416T180000Z
X-MICROSOFT-CDO-ALLDAYEVENT:FALSE
SUMMARY:Outdoor Cooking with Dutch Ovens
DESCRIPTION:Please add this to your Calendar of Events: Tejas Dutch Oven Cookers will teach "Outdoor Cooking with Dutch Ovens" in the Day Use Area of Stephen F. Austin State Park\, Park Road 38\, San Felipe\, Texas 77473 from 11:00 a.m. to 1:00 p.m. on Saturday\, April 16\, 2016. When entering the park\, please Indicate that you are there for a Dutch oven class and the entrance fees will be waived for this FREE public event. Bring your lawn chairs and nonalcoholic beverages.
X-ALT-DESC;FMTTYPE=text/html:Please add this to your Calendar of Events: Tejas Dutch Oven Cookers will teach &quot\;Outdoor Cooking with Dutch Ovens&quot\; in the Day Use Area of Stephen F. Austin State Park\, Park Road 38\, San Felipe\, Texas 77473 from 11:00 a.m. to 1:00 p.m. on Saturday\, April 16\, 2016. When entering the park\, please Indicate that you are there for a Dutch oven class and the entrance fees will be waived for this FREE public event. Bring your lawn chairs and nonalcoholic beverages.
LOCATION:Day Use Area of Stephen F. Austin State Park\, Park Road 38\, San Felipe\, Texas 77473
UID:e.2500.1489
SEQUENCE:3
DTSTAMP:20260424T191814Z
URL:https://business.bellville.com/events/details/outdoor-cooking-with-dutch-ovens-04-16-2016-1489
END:VEVENT

END:VCALENDAR
