BEGIN:VCALENDAR
VERSION:2.0
PRODID:-//ChamberMaster//Event Calendar 2.0//EN
METHOD:PUBLISH
X-PUBLISHED-TTL:P3D
REFRESH-INTERVAL:P3D
CALSCALE:GREGORIAN
BEGIN:VEVENT
DTSTART:20180531T210000Z
DTEND:20180601T000000Z
X-MICROSOFT-CDO-ALLDAYEVENT:FALSE
SUMMARY:Open House / Model Grand Opening
DESCRIPTION:Presented by\n\nCustom Homes by Willmark\n\nand\n\nColdwell Banker Properties Unlimited
X-ALT-DESC;FMTTYPE=text/html:Presented by<br />\nCustom Homes by Willmark<br />\nand<br />\nColdwell Banker Properties Unlimited
LOCATION:84 Briarwood Ln. Bellville\, TX 77418
UID:e.2500.6729
SEQUENCE:3
DTSTAMP:20260423T014607Z
URL:https://business.bellville.com/events/details/open-house-model-grand-opening-6729
END:VEVENT

END:VCALENDAR
