BEGIN:VCALENDAR
VERSION:2.0
PRODID:-//ChamberMaster//Event Calendar 2.0//EN
METHOD:PUBLISH
X-PUBLISHED-TTL:P3D
REFRESH-INTERVAL:P3D
CALSCALE:GREGORIAN
BEGIN:VEVENT
DTSTART:20180221T190000Z
DTEND:20180222T010000Z
X-MICROSOFT-CDO-ALLDAYEVENT:FALSE
SUMMARY:Open House at The Retreat Boutique Spa
DESCRIPTION:Complimentary Food and Beverages
X-ALT-DESC;FMTTYPE=text/html:Complimentary Food and Beverages
LOCATION:219 W Main St Bellville TX 77418
UID:e.2500.3737
SEQUENCE:3
DTSTAMP:20260423T071024Z
URL:https://business.bellville.com/events/details/open-house-at-the-retreat-boutique-spa-3737
END:VEVENT

END:VCALENDAR
