BEGIN:VCALENDAR
VERSION:2.0
PRODID:-//ChamberMaster//Event Calendar 2.0//EN
METHOD:PUBLISH
X-PUBLISHED-TTL:P3D
REFRESH-INTERVAL:P3D
CALSCALE:GREGORIAN
BEGIN:VEVENT
DTSTART:20181130T160000Z
DTEND:20181201T000000Z
X-MICROSOFT-CDO-ALLDAYEVENT:FALSE
SUMMARY:One Day Wreath Sale
DESCRIPTION:ONE DAY WREATH SALE at Hospice Brazos Valley\n\n302 E Blue Bell Rd\, Brenham\n\nFresh evergreen door wreaths and swags on sale with all proceeds going back to\n\nserve those on care with Hospice Brazos Valley. First Come First Serve....
X-ALT-DESC;FMTTYPE=text/html:ONE DAY WREATH SALE at Hospice Brazos Valley<br />\n302 E Blue Bell Rd\, Brenham<br />\nFresh evergreen door wreaths and swags on sale with all proceeds going back to<br />\nserve those on care with Hospice Brazos Valley. First Come First Serve....
LOCATION:302 E. Blue Bell Rd\, Brenham\, Texas 77833
UID:e.2500.6984
SEQUENCE:3
DTSTAMP:20260422T153753Z
URL:https://business.bellville.com/events/details/one-day-wreath-sale-6984
END:VEVENT

END:VCALENDAR
