BEGIN:VCALENDAR
VERSION:2.0
PRODID:-//ChamberMaster//Event Calendar 2.0//EN
METHOD:PUBLISH
X-PUBLISHED-TTL:P3D
REFRESH-INTERVAL:P3D
CALSCALE:GREGORIAN
BEGIN:VEVENT
DTSTART:20181117T160000Z
DTEND:20181117T200000Z
X-MICROSOFT-CDO-ALLDAYEVENT:FALSE
SUMMARY:November Holiday Market
DESCRIPTION:Join us at Washington on the Brazos State Park for a November Holiday Market. Come get your Christmas shopping done early. Over 30 local vendors selling handmade items\, baked goods and much\, much more!!! Food truck on site along with live music.
X-ALT-DESC;FMTTYPE=text/html:Join us at Washington on the Brazos State Park for a November Holiday Market. Come get your Christmas shopping done early. Over 30 local vendors selling handmade items\, baked goods and much\, much more!!! Food truck on site along with live music.
LOCATION:Washington on the Brazos State Park Conference Center 23400 Park Road 12 Washington\, Texas 77880
UID:e.2500.6997
SEQUENCE:3
DTSTAMP:20260422T155614Z
URL:https://business.bellville.com/events/details/november-holiday-market-6997
END:VEVENT

END:VCALENDAR
