BEGIN:VCALENDAR
VERSION:2.0
PRODID:-//ChamberMaster//Event Calendar 2.0//EN
METHOD:PUBLISH
X-PUBLISHED-TTL:P3D
REFRESH-INTERVAL:P3D
CALSCALE:GREGORIAN
BEGIN:VEVENT
DTSTART:20180310T220000Z
DTEND:20180311T040000Z
X-MICROSOFT-CDO-ALLDAYEVENT:FALSE
SUMMARY:Night Golf @ Bellville Golf and Recreation
DESCRIPTION:Dinner served at 6pm
X-ALT-DESC;FMTTYPE=text/html:Dinner served at 6pm
LOCATION:
UID:e.2500.3752
SEQUENCE:3
DTSTAMP:20260423T053150Z
URL:https://business.bellville.com/events/details/night-golf-bellville-golf-and-recreation-3752
END:VEVENT

END:VCALENDAR
