BEGIN:VCALENDAR
VERSION:2.0
PRODID:-//ChamberMaster//Event Calendar 2.0//EN
METHOD:PUBLISH
X-PUBLISHED-TTL:P3D
REFRESH-INTERVAL:P3D
CALSCALE:GREGORIAN
BEGIN:VEVENT
DTSTART:20170101T023000Z
DTEND:20170101T063000Z
X-MICROSOFT-CDO-ALLDAYEVENT:FALSE
SUMMARY:New Year's Eve Bash
DESCRIPTION:1st Annual New Years Eve Bash at Emery's Buffalo Creek. Bring in the New Year with live band\, emcee\, late night snacks\, photo booth\, and fireworks! Festive champagne\, select wine and beer to enjoy.
X-ALT-DESC;FMTTYPE=text/html:1st Annual New Years Eve Bash at Emery&#39\;s Buffalo Creek. Bring in the New Year with live band\, emcee\, late night snacks\, photo booth\, and fireworks! Festive champagne\, select wine and beer to enjoy.
LOCATION:Emery's Buffalo Creek
UID:e.2500.3152
SEQUENCE:3
DTSTAMP:20260424T034133Z
URL:https://business.bellville.com/events/details/new-year-s-eve-bash-3152
END:VEVENT

END:VCALENDAR
