BEGIN:VCALENDAR
VERSION:2.0
PRODID:-//ChamberMaster//Event Calendar 2.0//EN
METHOD:PUBLISH
X-PUBLISHED-TTL:P3D
REFRESH-INTERVAL:P3D
CALSCALE:GREGORIAN
BEGIN:VEVENT
DTSTART:20190301T000000Z
DTEND:20190301T030000Z
X-MICROSOFT-CDO-ALLDAYEVENT:FALSE
SUMMARY:New Beginnings 2019 Celebration of Life Banquet
DESCRIPTION:New Beginnings Life Ministries invites you to our annual fundraising banquet Thursday\, February 28\, 2019 We hope you can join us for an evening of fun\, food and fellowship as we celebrate what God has done\, is doing and will do. Dinner catered by Bever's Kitchen Guest speaker\, Dr. Kathy Koch Trainer\, Parent Educator\, Author and Founder & President of Celebrate Kids\, Inc.
X-ALT-DESC;FMTTYPE=text/html:New Beginnings Life Ministries invites you to our annual fundraising banquet Thursday\, February 28\, 2019 We hope you can join us for an evening of fun\, food and fellowship as we celebrate what God has done\, is doing and will do. Dinner catered by Bever&#39\;s Kitchen Guest speaker\, Dr. Kathy Koch Trainer\, Parent Educator\, Author and Founder &amp\; President of Celebrate Kids\, Inc.
LOCATION:Fireman's Training Center 1101 U.S. 290 Brenham\, Tx 77833
UID:e.2500.7242
SEQUENCE:3
DTSTAMP:20260422T104816Z
URL:https://business.bellville.com/events/details/new-beginnings-2019-celebration-of-life-banquet-7242
END:VEVENT

END:VCALENDAR
