BEGIN:VCALENDAR
VERSION:2.0
PRODID:-//ChamberMaster//Event Calendar 2.0//EN
METHOD:PUBLISH
X-PUBLISHED-TTL:P3D
REFRESH-INTERVAL:P3D
CALSCALE:GREGORIAN
BEGIN:VEVENT
DTSTART;VALUE=DATE:20170104
DTEND;VALUE=DATE:20170107
TRANSP:TRANSPARENT
X-MICROSOFT-CDO-ALLDAYEVENT:TRUE
SUMMARY:NCFCA Speech & Debate Tournament - Judges Needed
DESCRIPTION:Community judges needed for a high school Speech & Debate tournament that will be held at Blinn College Brenham Campus in January. This tournament is a TX All-Region Qualifier that will provide competition for over 300 high school students from across the region in both Lincoln Douglas Value and Team Policy debate\, as well as Interpretive\, Platform\, and Limited Preparation speech events. In order to make this possible\, we need your help! Over 250 willing individuals from the community will be needed over the course of three days\, Thursday\, January 5 to Saturday\, January 7\, 2017. Our students rely on our judges' valuable feedback for improvement\, growth\, and encouragement. No experience in either speech or debate is necessary. All we need is the investment of time. Interested persons may judge as little as one round on one day or as many as several rounds over all three days. Complimentary light meals\,snacks\, and beverages will be provided. If you have any questions\, please contact Jenny Stufflebeam at BrenhamTourney@gmail.com or 979-530-7992.
X-ALT-DESC;FMTTYPE=text/html:Community judges needed for a high school Speech &amp\; Debate tournament that will be held at Blinn College Brenham Campus in January. This tournament is a TX All-Region Qualifier that will provide competition for over 300 high school students from across the region in both Lincoln Douglas Value and Team Policy debate\, as well as Interpretive\, Platform\, and Limited Preparation speech events. In order to make this possible\, we need your help! Over 250 willing individuals from the community will be needed over the course of three days\, Thursday\, January 5 to Saturday\, January 7\, 2017. Our students rely on our judges&#39\; valuable feedback for improvement\, growth\, and encouragement. No experience in either speech or debate is necessary. All we need is the investment of time. Interested persons may judge as little as one round on one day or as many as several rounds over all three days. Complimentary light meals\,snacks\, and beverages will be provided. If you have any questions\, please contact Jenny Stufflebeam at BrenhamTourney@gmail.com or 979-530-7992.
LOCATION:Blinn Community College\, Brenham\, Texas
UID:e.2500.3150
SEQUENCE:3
DTSTAMP:20260424T034353Z
URL:https://business.bellville.com/events/details/ncfca-speech-debate-tournament-judges-needed-3150
END:VEVENT

END:VCALENDAR
