BEGIN:VCALENDAR
VERSION:2.0
PRODID:-//ChamberMaster//Event Calendar 2.0//EN
METHOD:PUBLISH
X-PUBLISHED-TTL:P3D
REFRESH-INTERVAL:P3D
CALSCALE:GREGORIAN
BEGIN:VEVENT
DTSTART:20180503T163000Z
DTEND:20180503T180000Z
X-MICROSOFT-CDO-ALLDAYEVENT:FALSE
SUMMARY:National Day of Prayer
DESCRIPTION:Light lunch provided from 11:30-12:00
X-ALT-DESC;FMTTYPE=text/html:Light lunch provided from 11:30-12:00
LOCATION:Faith Academy High School Commons 12177 Hwy 36 Bellville TX 77418
UID:e.2500.6585
SEQUENCE:3
DTSTAMP:20260423T033731Z
URL:https://business.bellville.com/events/details/national-day-of-prayer-6585
END:VEVENT

END:VCALENDAR
