BEGIN:VCALENDAR
VERSION:2.0
PRODID:-//ChamberMaster//Event Calendar 2.0//EN
METHOD:PUBLISH
X-PUBLISHED-TTL:P3D
REFRESH-INTERVAL:P3D
CALSCALE:GREGORIAN
BEGIN:VEVENT
DTSTART:20180218T010000Z
DTEND:20180218T030000Z
X-MICROSOFT-CDO-ALLDAYEVENT:FALSE
SUMMARY:Mr. Debonair Contest at Bellville High School
DESCRIPTION:
X-ALT-DESC;FMTTYPE=text/html:
LOCATION:Bellville High School
UID:e.2500.3745
SEQUENCE:3
DTSTAMP:20260423T071101Z
URL:https://business.bellville.com/events/details/mr-debonair-contest-at-bellville-high-school-3745
END:VEVENT

END:VCALENDAR
