BEGIN:VCALENDAR
VERSION:2.0
PRODID:-//ChamberMaster//Event Calendar 2.0//EN
METHOD:PUBLISH
X-PUBLISHED-TTL:P3D
REFRESH-INTERVAL:P3D
CALSCALE:GREGORIAN
BEGIN:VEVENT
DTSTART:20170514T150000Z
DTEND:20170514T200000Z
X-MICROSOFT-CDO-ALLDAYEVENT:FALSE
SUMMARY:Mother Day Buffet Brunch
DESCRIPTION:Treat your Mother to something Special this year! Emery's Buffalo Creek is hosting a MOTHER'S DAY BUFFET BRUNCH. Seating times are between 10 am - 2 pm. Buffet menu includes coffee\, tea\, water\, juice and adults will receive a free mimosa. There will be Live music\, flowers\, and a nice buffet created by Chef Drymala. Please see menu on Emery's Wedding and Entertainment Facebook page.
X-ALT-DESC;FMTTYPE=text/html:Treat your Mother to something Special this year! Emery&#39\;s Buffalo Creek is hosting a MOTHER&#39\;S DAY BUFFET BRUNCH. Seating times are between 10 am - 2 pm. Buffet menu includes coffee\, tea\, water\, juice and adults will receive a free mimosa. There will be Live music\, flowers\, and a nice buffet created by Chef Drymala. Please see menu on Emery&#39\;s Wedding and Entertainment Facebook page.
LOCATION:Emery's Buffalo Creek 10827 Hwy 36 Bellville\, TX 77418
UID:e.2500.3409
SEQUENCE:3
DTSTAMP:20260423T205426Z
URL:https://business.bellville.com/events/details/mother-day-buffet-brunch-3409
END:VEVENT

END:VCALENDAR
